Package: trackViewer Version: 1.44.0 Command: /Library/Frameworks/R.framework/Resources/bin/R CMD build --keep-empty-dirs --no-resave-data trackViewer StartedAt: 2025-10-13 23:18:44 -0400 (Mon, 13 Oct 2025) EndedAt: 2025-10-13 23:42:53 -0400 (Mon, 13 Oct 2025) EllapsedTime: 1449.6 seconds RetCode: 0 Status: OK PackageFile: trackViewer_1.44.0.tar.gz PackageFileSize: 12.52 MiB