Package: trackViewer Version: 1.44.0 Command: rm -rf trackViewer.buildbin-libdir && mkdir trackViewer.buildbin-libdir && /Users/biocbuild/BBS/utils/build-universal.sh trackViewer_1.44.0.tar.gz /Library/Frameworks/R.framework/Resources/bin/R trackViewer.buildbin-libdir StartedAt: 2025-10-14 14:59:05 -0400 (Tue, 14 Oct 2025) EndedAt: 2025-10-14 15:01:46 -0400 (Tue, 14 Oct 2025) EllapsedTime: 160.8 seconds RetCode: 0 Status: OK PackageFile: trackViewer_1.44.0.tgz PackageFileSize: 13.28 MiB