Package: tpSVG Version: 1.6.0 Command: /home/biocbuild/bbs-3.22-bioc/R/bin/R CMD check --install=check:tpSVG.install-out.txt --library=/home/biocbuild/bbs-3.22-bioc/R/site-library --timings tpSVG_1.6.0.tar.gz StartedAt: 2025-11-12 05:04:44 -0500 (Wed, 12 Nov 2025) EndedAt: 2025-11-12 05:09:46 -0500 (Wed, 12 Nov 2025) EllapsedTime: 302.3 seconds RetCode: 0 Status: OK CheckDir: tpSVG.Rcheck Warnings: 0