Package: tpSVG Version: 1.6.0 Command: /home/biocbuild/bbs-3.22-bioc/R/bin/R CMD build --keep-empty-dirs --no-resave-data --md5 tpSVG StartedAt: 2025-11-11 20:42:51 -0500 (Tue, 11 Nov 2025) EndedAt: 2025-11-11 20:44:18 -0500 (Tue, 11 Nov 2025) EllapsedTime: 87.1 seconds RetCode: 0 Status: OK PackageFile: tpSVG_1.6.0.tar.gz PackageFileSize: 1.237 MiB