Package: tpSVG Version: 1.4.0 Command: /home/biocbuild/bbs-3.21-bioc/R/bin/R CMD INSTALL tpSVG StartedAt: 2025-10-15 15:20:31 -0400 (Wed, 15 Oct 2025) EndedAt: 2025-10-15 15:20:54 -0400 (Wed, 15 Oct 2025) EllapsedTime: 22.9 seconds RetCode: 0 Status: OK