Package: tpSVG Version: 1.4.0 Command: /home/biocbuild/bbs-3.21-bioc/R/bin/R CMD build --keep-empty-dirs --no-resave-data tpSVG StartedAt: 2025-10-15 20:21:18 -0400 (Wed, 15 Oct 2025) EndedAt: 2025-10-15 20:22:48 -0400 (Wed, 15 Oct 2025) EllapsedTime: 90.1 seconds RetCode: 0 Status: OK PackageFile: tpSVG_1.4.0.tar.gz PackageFileSize: 1.237 MiB