Package: tpSVG Version: 1.4.0 Command: /Library/Frameworks/R.framework/Resources/bin/R CMD build --keep-empty-dirs --no-resave-data tpSVG StartedAt: 2025-04-21 18:45:00 -0400 (Mon, 21 Apr 2025) EndedAt: 2025-04-21 18:46:37 -0400 (Mon, 21 Apr 2025) EllapsedTime: 97.1 seconds RetCode: 0 Status: OK PackageFile: tpSVG_1.4.0.tar.gz PackageFileSize: 1.237 MiB