Package: tpSVG Version: 1.4.0 Command: /home/biocbuild/R/R/bin/R CMD INSTALL tpSVG StartedAt: 2025-09-25 20:35:34 -0000 (Thu, 25 Sep 2025) EndedAt: 2025-09-25 20:36:07 -0000 (Thu, 25 Sep 2025) EllapsedTime: 33.8 seconds RetCode: 0 Status: OK