Package: tpSVG Version: 1.4.0 Maintainer: Boyi Guo MaintainerEmail: boyi.guo.work at gmail.com git_url: https://git.bioconductor.org/packages/tpSVG git_branch: RELEASE_3_21 git_last_commit: 6d6c7fb git_last_commit_date: 2025-04-15 13:29:49 -0400 (Tue, 15 Apr 2025)