Package: topdownr Version: 1.32.0 Command: /Library/Frameworks/R.framework/Resources/bin/R CMD build --keep-empty-dirs --no-resave-data topdownr StartedAt: 2025-10-31 18:04:18 -0400 (Fri, 31 Oct 2025) EndedAt: 2025-10-31 18:04:57 -0400 (Fri, 31 Oct 2025) EllapsedTime: 39.4 seconds RetCode: 0 Status: OK PackageFile: topdownr_1.32.0.tar.gz PackageFileSize: 1.567 MiB