Package: topdownr Version: 1.32.0 Command: rm -rf topdownr.buildbin-libdir && mkdir topdownr.buildbin-libdir && /Users/biocbuild/BBS/utils/build-universal.sh topdownr_1.32.0.tar.gz /Library/Frameworks/R.framework/Resources/bin/R topdownr.buildbin-libdir StartedAt: 2025-10-31 23:26:46 -0400 (Fri, 31 Oct 2025) EndedAt: 2025-10-31 23:27:06 -0400 (Fri, 31 Oct 2025) EllapsedTime: 19.4 seconds RetCode: 0 Status: OK PackageFile: topdownr_1.32.0.tgz PackageFileSize: 2.366 MiB