Package: topconfects Version: 1.26.0 Command: /home/biocbuild/bbs-3.22-bioc/R/bin/R CMD INSTALL topconfects StartedAt: 2025-11-25 15:33:56 -0500 (Tue, 25 Nov 2025) EndedAt: 2025-11-25 15:34:28 -0500 (Tue, 25 Nov 2025) EllapsedTime: 32.6 seconds RetCode: 0 Status: OK