Package: topGO Version: 2.62.0 Command: /home/biocbuild/bbs-3.22-bioc/R/bin/R CMD INSTALL topGO StartedAt: 2025-11-13 15:39:11 -0500 (Thu, 13 Nov 2025) EndedAt: 2025-11-13 15:39:32 -0500 (Thu, 13 Nov 2025) EllapsedTime: 21.0 seconds RetCode: 0 Status: OK