Package: tomoseqr Version: 1.14.0 Command: /home/biocbuild/bbs-3.22-bioc/R/bin/R CMD check --install=check:tomoseqr.install-out.txt --library=/home/biocbuild/bbs-3.22-bioc/R/site-library --timings tomoseqr_1.14.0.tar.gz StartedAt: 2025-11-18 09:28:27 -0500 (Tue, 18 Nov 2025) EndedAt: 2025-11-18 09:30:06 -0500 (Tue, 18 Nov 2025) EllapsedTime: 99.1 seconds RetCode: 0 Status: OK CheckDir: tomoseqr.Rcheck Warnings: 0