Package: tomoseqr Version: 1.14.0 Command: /home/biocbuild/bbs-3.22-bioc/R/bin/R CMD build --keep-empty-dirs --no-resave-data --md5 tomoseqr StartedAt: 2025-11-11 20:42:08 -0500 (Tue, 11 Nov 2025) EndedAt: 2025-11-11 20:42:25 -0500 (Tue, 11 Nov 2025) EllapsedTime: 17.0 seconds RetCode: 0 Status: OK PackageFile: tomoseqr_1.14.0.tar.gz PackageFileSize: 1.56 MiB