Package: tomoseqr Version: 1.14.0 Command: /Library/Frameworks/R.framework/Resources/bin/R CMD build --keep-empty-dirs --no-resave-data tomoseqr StartedAt: 2025-11-03 19:06:46 -0500 (Mon, 03 Nov 2025) EndedAt: 2025-11-03 19:07:10 -0500 (Mon, 03 Nov 2025) EllapsedTime: 24.0 seconds RetCode: 0 Status: OK PackageFile: tomoseqr_1.14.0.tar.gz PackageFileSize: 1.558 MiB