Package: tomoseqr Version: 1.14.0 Command: rm -rf tomoseqr.buildbin-libdir && mkdir tomoseqr.buildbin-libdir && /Users/biocbuild/BBS/utils/build-universal.sh tomoseqr_1.14.0.tar.gz /Library/Frameworks/R.framework/Resources/bin/R tomoseqr.buildbin-libdir StartedAt: 2025-11-04 02:09:00 -0500 (Tue, 04 Nov 2025) EndedAt: 2025-11-04 02:09:16 -0500 (Tue, 04 Nov 2025) EllapsedTime: 15.9 seconds RetCode: 0 Status: OK PackageFile: tomoseqr_1.14.0.tgz PackageFileSize: 1.22 MiB