Package: tomoseqr Version: 1.12.0 Command: /home/biocbuild/R/R/bin/R CMD INSTALL tomoseqr StartedAt: 2025-10-13 20:20:30 -0000 (Mon, 13 Oct 2025) EndedAt: 2025-10-13 20:20:42 -0000 (Mon, 13 Oct 2025) EllapsedTime: 12.1 seconds RetCode: 0 Status: OK