Package: tomoseqr Version: 1.12.0 Command: /home/biocbuild/R/R/bin/R CMD build --keep-empty-dirs --no-resave-data tomoseqr StartedAt: 2025-10-14 05:25:55 -0000 (Tue, 14 Oct 2025) EndedAt: 2025-10-14 05:26:23 -0000 (Tue, 14 Oct 2025) EllapsedTime: 28.0 seconds RetCode: 0 Status: OK PackageFile: tomoseqr_1.12.0.tar.gz PackageFileSize: 1.583 MiB