Package: tomoda Version: 1.20.0 Command: /home/biocbuild/bbs-3.22-bioc/R/bin/R CMD build --keep-empty-dirs --no-resave-data --md5 tomoda StartedAt: 2025-11-11 20:42:01 -0500 (Tue, 11 Nov 2025) EndedAt: 2025-11-11 20:43:25 -0500 (Tue, 11 Nov 2025) EllapsedTime: 83.1 seconds RetCode: 0 Status: OK PackageFile: tomoda_1.20.0.tar.gz PackageFileSize: 2.858 MiB