Package: tomoda Version: 1.20.0 Command: /Library/Frameworks/R.framework/Resources/bin/R CMD INSTALL tomoda StartedAt: 2025-11-10 15:19:03 -0500 (Mon, 10 Nov 2025) EndedAt: 2025-11-10 15:19:13 -0500 (Mon, 10 Nov 2025) EllapsedTime: 9.7 seconds RetCode: 0 Status: OK