Package: tomoda Version: 1.20.0 Command: /Library/Frameworks/R.framework/Resources/bin/R CMD build --keep-empty-dirs --no-resave-data tomoda StartedAt: 2025-11-10 18:01:12 -0500 (Mon, 10 Nov 2025) EndedAt: 2025-11-10 18:01:48 -0500 (Mon, 10 Nov 2025) EllapsedTime: 35.4 seconds RetCode: 0 Status: OK PackageFile: tomoda_1.20.0.tar.gz PackageFileSize: 2.9 MiB