Package: tomoda Version: 1.20.0 Command: rm -rf tomoda.buildbin-libdir && mkdir tomoda.buildbin-libdir && /Users/biocbuild/BBS/utils/build-universal.sh tomoda_1.20.0.tar.gz /Library/Frameworks/R.framework/Resources/bin/R tomoda.buildbin-libdir StartedAt: 2025-11-10 23:39:46 -0500 (Mon, 10 Nov 2025) EndedAt: 2025-11-10 23:39:58 -0500 (Mon, 10 Nov 2025) EllapsedTime: 11.3 seconds RetCode: 0 Status: OK PackageFile: tomoda_1.20.0.tgz PackageFileSize: 2.965 MiB