Package: tkWidgets Version: 1.88.0 Command: /home/biocbuild/R/R/bin/R CMD INSTALL tkWidgets StartedAt: 2025-11-20 21:49:32 -0000 (Thu, 20 Nov 2025) EndedAt: 2025-11-20 21:49:47 -0000 (Thu, 20 Nov 2025) EllapsedTime: 14.8 seconds RetCode: 0 Status: OK