Package: tkWidgets Version: 1.88.0 Command: /home/biocbuild/R/R/bin/R CMD build --keep-empty-dirs --no-resave-data tkWidgets StartedAt: 2025-11-21 06:31:35 -0000 (Fri, 21 Nov 2025) EndedAt: 2025-11-21 06:31:49 -0000 (Fri, 21 Nov 2025) EllapsedTime: 14.0 seconds RetCode: 0 Status: OK PackageFile: tkWidgets_1.88.0.tar.gz PackageFileSize: 468.9 KiB