Package: tkWidgets Version: 1.88.0 Command: /home/biocbuild/bbs-3.22-bioc/R/bin/R CMD INSTALL tkWidgets StartedAt: 2025-11-11 15:09:16 -0500 (Tue, 11 Nov 2025) EndedAt: 2025-11-11 15:09:23 -0500 (Tue, 11 Nov 2025) EllapsedTime: 6.3 seconds RetCode: 0 Status: OK