Package: tkWidgets Version: 1.86.0 Command: /home/biocbuild/R/R/bin/R CMD build --keep-empty-dirs --no-resave-data tkWidgets StartedAt: 2025-09-26 06:43:16 -0000 (Fri, 26 Sep 2025) EndedAt: 2025-09-26 06:43:30 -0000 (Fri, 26 Sep 2025) EllapsedTime: 14.0 seconds RetCode: 0 Status: OK PackageFile: tkWidgets_1.86.0.tar.gz PackageFileSize: 470.7 KiB