Package: tkWidgets Version: 1.86.0 Command: /Library/Frameworks/R.framework/Resources/bin/R CMD INSTALL tkWidgets StartedAt: 2025-10-13 15:14:08 -0400 (Mon, 13 Oct 2025) EndedAt: 2025-10-13 15:14:25 -0400 (Mon, 13 Oct 2025) EllapsedTime: 16.9 seconds RetCode: 0 Status: OK