Package: tkWidgets Version: 1.88.0 Maintainer: J. Zhang MaintainerEmail: jzhang at jimmy.harvard.edu git_url: https://git.bioconductor.org/packages/tkWidgets git_branch: RELEASE_3_22 git_last_commit: 598ba4c git_last_commit_date: 2025-10-29 09:42:00 -0400 (Wed, 29 Oct 2025)