Package: timescape Version: 1.34.0 Command: /home/biocbuild/bbs-3.22-bioc/R/bin/R CMD INSTALL timescape StartedAt: 2025-11-17 17:04:41 -0500 (Mon, 17 Nov 2025) EndedAt: 2025-11-17 17:04:43 -0500 (Mon, 17 Nov 2025) EllapsedTime: 1.7 seconds RetCode: 0 Status: OK