Package: timescape Version: 1.34.0 Command: /home/biocbuild/bbs-3.22-bioc/R/bin/R CMD build --keep-empty-dirs --no-resave-data --md5 timescape StartedAt: 2025-11-17 23:59:38 -0500 (Mon, 17 Nov 2025) EndedAt: 2025-11-17 23:59:43 -0500 (Mon, 17 Nov 2025) EllapsedTime: 5.0 seconds RetCode: 0 Status: OK PackageFile: timescape_1.34.0.tar.gz PackageFileSize: 673.6 KiB