Package: timecourse Version: 1.82.0 Command: /home/biocbuild/R/R/bin/R CMD INSTALL timecourse StartedAt: 2025-11-10 21:18:18 -0000 (Mon, 10 Nov 2025) EndedAt: 2025-11-10 21:18:26 -0000 (Mon, 10 Nov 2025) EllapsedTime: 8.3 seconds RetCode: 0 Status: OK