Package: timecourse Version: 1.82.0 Command: /home/biocbuild/R/R/bin/R CMD build --keep-empty-dirs --no-resave-data timecourse StartedAt: 2025-11-14 06:00:22 -0000 (Fri, 14 Nov 2025) EndedAt: 2025-11-14 06:00:43 -0000 (Fri, 14 Nov 2025) EllapsedTime: 21.0 seconds RetCode: 0 Status: OK PackageFile: timecourse_1.82.0.tar.gz PackageFileSize: 830.8 KiB