Package: timecourse Version: 1.82.0 Command: /home/biocbuild/bbs-3.22-bioc/R/bin/R CMD INSTALL timecourse StartedAt: 2025-11-11 15:16:59 -0500 (Tue, 11 Nov 2025) EndedAt: 2025-11-11 15:17:06 -0500 (Tue, 11 Nov 2025) EllapsedTime: 6.6 seconds RetCode: 0 Status: OK