Package: timecourse Version: 1.80.0 Command: /Library/Frameworks/R.framework/Resources/bin/R CMD INSTALL timecourse StartedAt: 2025-10-13 15:22:44 -0400 (Mon, 13 Oct 2025) EndedAt: 2025-10-13 15:22:54 -0400 (Mon, 13 Oct 2025) EllapsedTime: 10.3 seconds RetCode: 0 Status: OK