Package: timecourse Version: 1.80.0 Command: rm -rf timecourse.buildbin-libdir && mkdir timecourse.buildbin-libdir && /Users/biocbuild/BBS/utils/build-universal.sh timecourse_1.80.0.tar.gz /Library/Frameworks/R.framework/Resources/bin/R timecourse.buildbin-libdir StartedAt: 2025-10-14 14:58:04 -0400 (Tue, 14 Oct 2025) EndedAt: 2025-10-14 14:58:20 -0400 (Tue, 14 Oct 2025) EllapsedTime: 16.2 seconds RetCode: 0 Status: OK PackageFile: timecourse_1.80.0.tgz PackageFileSize: 944.5 KiB