Package: timecourse Version: 1.80.0 Command: /home/biocbuild/R/R/bin/R CMD build --keep-empty-dirs --no-resave-data timecourse StartedAt: 2025-09-26 06:42:40 -0000 (Fri, 26 Sep 2025) EndedAt: 2025-09-26 06:43:01 -0000 (Fri, 26 Sep 2025) EllapsedTime: 21.0 seconds RetCode: 0 Status: OK PackageFile: timecourse_1.80.0.tar.gz PackageFileSize: 833.3 KiB