Package: timecourse Version: 1.80.0 Command: /Library/Frameworks/R.framework/Resources/bin/R CMD INSTALL timecourse StartedAt: 2025-09-25 15:33:24 -0400 (Thu, 25 Sep 2025) EndedAt: 2025-09-25 15:33:33 -0400 (Thu, 25 Sep 2025) EllapsedTime: 8.5 seconds RetCode: 0 Status: OK