Package: timeOmics Version: 1.22.0 Command: /home/biocbuild/bbs-3.22-bioc/R/bin/R CMD INSTALL timeOmics StartedAt: 2025-11-11 15:13:55 -0500 (Tue, 11 Nov 2025) EndedAt: 2025-11-11 15:14:16 -0500 (Tue, 11 Nov 2025) EllapsedTime: 21.1 seconds RetCode: 0 Status: OK