Package: timeOmics Version: 1.22.0 Command: /home/biocbuild/bbs-3.22-bioc/R/bin/R CMD check --install=check:timeOmics.install-out.txt --library=/home/biocbuild/bbs-3.22-bioc/R/site-library --timings timeOmics_1.22.0.tar.gz StartedAt: 2025-11-14 05:02:29 -0500 (Fri, 14 Nov 2025) EndedAt: 2025-11-14 05:05:49 -0500 (Fri, 14 Nov 2025) EllapsedTime: 199.2 seconds RetCode: 0 Status: WARNINGS CheckDir: timeOmics.Rcheck Warnings: 2