Package: timeOmics Version: 1.20.0 Command: /home/biocbuild/bbs-3.21-bioc/R/bin/R CMD INSTALL timeOmics StartedAt: 2025-10-15 15:09:08 -0400 (Wed, 15 Oct 2025) EndedAt: 2025-10-15 15:09:19 -0400 (Wed, 15 Oct 2025) EllapsedTime: 10.9 seconds RetCode: 0 Status: OK