Package: timeOmics Version: 1.22.0 Command: /Library/Frameworks/R.framework/Resources/bin/R CMD INSTALL timeOmics StartedAt: 2025-11-03 15:16:19 -0500 (Mon, 03 Nov 2025) EndedAt: 2025-11-03 15:16:41 -0500 (Mon, 03 Nov 2025) EllapsedTime: 22.3 seconds RetCode: 0 Status: OK