Package: timeOmics Version: 1.22.0 Command: rm -rf timeOmics.buildbin-libdir && mkdir timeOmics.buildbin-libdir && /Users/biocbuild/BBS/utils/build-universal.sh timeOmics_1.22.0.tar.gz /Library/Frameworks/R.framework/Resources/bin/R timeOmics.buildbin-libdir StartedAt: 2025-11-04 02:08:44 -0500 (Tue, 04 Nov 2025) EndedAt: 2025-11-04 02:09:05 -0500 (Tue, 04 Nov 2025) EllapsedTime: 20.3 seconds RetCode: 0 Status: OK PackageFile: timeOmics_1.22.0.tgz PackageFileSize: 3.495 MiB