Package: timeOmics Version: 1.20.0 Command: /home/biocbuild/R/R/bin/R CMD INSTALL timeOmics StartedAt: 2025-10-06 20:20:48 -0000 (Mon, 06 Oct 2025) EndedAt: 2025-10-06 20:21:03 -0000 (Mon, 06 Oct 2025) EllapsedTime: 15.0 seconds RetCode: 0 Status: OK