Package: timeOmics Version: 1.20.0 Command: /home/biocbuild/R/R/bin/R CMD build --keep-empty-dirs --no-resave-data timeOmics StartedAt: 2025-10-07 05:19:16 -0000 (Tue, 07 Oct 2025) EndedAt: 2025-10-07 05:20:05 -0000 (Tue, 07 Oct 2025) EllapsedTime: 49.0 seconds RetCode: 0 Status: OK PackageFile: timeOmics_1.20.0.tar.gz PackageFileSize: 3.859 MiB