Package: timeOmics Version: 1.20.0 Command: /Library/Frameworks/R.framework/Resources/bin/R CMD build --keep-empty-dirs --no-resave-data timeOmics StartedAt: 2025-10-14 11:05:34 -0400 (Tue, 14 Oct 2025) EndedAt: 2025-10-14 11:06:22 -0400 (Tue, 14 Oct 2025) EllapsedTime: 48.4 seconds RetCode: 0 Status: OK PackageFile: timeOmics_1.20.0.tar.gz PackageFileSize: 4.012 MiB