Package: timeOmics Version: 1.20.0 Command: rm -rf timeOmics.buildbin-libdir && mkdir timeOmics.buildbin-libdir && /Users/biocbuild/BBS/utils/build-universal.sh timeOmics_1.20.0.tar.gz /Library/Frameworks/R.framework/Resources/bin/R timeOmics.buildbin-libdir StartedAt: 2025-10-15 20:51:38 -0400 (Wed, 15 Oct 2025) EndedAt: 2025-10-15 20:51:54 -0400 (Wed, 15 Oct 2025) EllapsedTime: 15.8 seconds RetCode: 0 Status: OK PackageFile: timeOmics_1.20.0.tgz PackageFileSize: 3.496 MiB