Package: tilingArray Version: 1.87.0 Command: /home/biocbuild/R/R/bin/R CMD check --install=check:tilingArray.install-out.txt --library=/home/biocbuild/R/R/site-library --no-vignettes --timings tilingArray_1.87.0.tar.gz StartedAt: 2025-10-17 14:29:52 -0000 (Fri, 17 Oct 2025) EndedAt: 2025-10-17 14:33:19 -0000 (Fri, 17 Oct 2025) EllapsedTime: 207.3 seconds RetCode: 0 Status: OK CheckDir: tilingArray.Rcheck Warnings: 0