Package: tilingArray Version: 1.88.0 Command: /home/biocbuild/bbs-3.22-bioc/R/bin/R CMD INSTALL tilingArray StartedAt: 2025-11-03 15:56:05 -0500 (Mon, 03 Nov 2025) EndedAt: 2025-11-03 15:56:31 -0500 (Mon, 03 Nov 2025) EllapsedTime: 26.1 seconds RetCode: 0 Status: OK