Package: tilingArray Version: 1.88.0 Command: /home/biocbuild/bbs-3.22-bioc/R/bin/R CMD check --install=check:tilingArray.install-out.txt --library=/home/biocbuild/bbs-3.22-bioc/R/site-library --timings tilingArray_1.88.0.tar.gz StartedAt: 2025-11-05 04:57:45 -0500 (Wed, 05 Nov 2025) EndedAt: 2025-11-05 05:00:39 -0500 (Wed, 05 Nov 2025) EllapsedTime: 174.3 seconds RetCode: 0 Status: OK CheckDir: tilingArray.Rcheck Warnings: 0